BEGIN:VCALENDAR
VERSION:2.0
CALSCALE:GREGORIAN
METHOD:PUBLISH
PRODID://OASF//487566
BEGIN:VEVENT
DTSTAMP:20260421T062143
VTIMEZONE:America/New_York
DTSTART:20260410T123000Z
DTEND:20260410T203000Z
UID:487566
SUMMARY:NASFAA Credential Training - Satisfactory Academic Progress & Professional Judgement
LOCATION:University of Cincinnati - Blue Ash, 9555 Plainfield Rd, Blue Ash, OH, 45236
DESCRIPTION:NASFAA Credential Training - Satisfactory Academic Progress & Professional Judgement\n\n04/10/26 08:30 AM EST\n - 04/10/26 04:30 PM EST\Description:\nUse this registration form to register for BOTH NASFAA Credential Workshops offered on this day. To register for Satisfactory Academic Progress only, click here. To register for Professional Judgment only, click here.\n\nSatisfactory Academic Progress: Check-In 8:00 - 8:30 am, training 8:30 am - 12 noon\nLunch 12 - 1 pm ( bring your own beverage)\nProessional Judgment: Check-In 12:30 - 1 pm, training 1 - 4:30 pm\n\nSession information including handouts and location information will be sent immediately following registration via the confirmation email. There is a pass code and link to access the Event Portal at the bottom of the confirmation email. If you have issues or need assistance, please email training@oasfaa.org \Location:\nUniversity of Cincinnati - Blue Ash\n9555 Plainfield Rd\nBlue Ash, OH 45236
X-ALT-DESC;FMTTYPE=text/html:NASFAA Credential Training - Satisfactory Academic Progress & Professional Judgement<br /><br />04/10/26 08:30 AM EST - 04/10/26 04:30 PM EST<br />Description:<br /><strong>Use this registration form to register for BOTH NASFAA Credential Workshops offered on this day.&nbsp;</strong>To register for Satisfactory Academic Progress only, click <a href="https://members.oasfaa.org/Calendar/moreinfo.php?org_id=OASF&amp;eventid=198852">here</a>. To register for Professional Judgment only, click <a href="https://members.oasfaa.org/members/evr/reg_main.php?orgcode=OASF&amp;evid=58292745">here</a>.<br />
<br />
Satisfactory Academic Progress: Check-In 8:00 - 8:30 am, training 8:30 am - 12 noon<br />
Lunch 12 - 1 pm ( bring your own beverage)<br />
Proessional Judgment: Check-In 12:30 - 1 pm, training 1 - 4:30 pm<br />
<br />
<strong><span style="background-color:#FFD700">Session information including handouts and location information will be sent immediately following registration via the confirmation email. There is a pass code and link to access the Event Portal at the bottom of the confirmation email. If you have issues or need assistance, please email training@oasfaa.org&nbsp;</span></strong><br />Location:<br />University of Cincinnati - Blue Ash<br />9555 Plainfield Rd<br />Blue Ash, OH 45236
PRIORITY:3
TRANSP:TRANSPARENT
BEGIN:VALARM
TRIGGER:-PT5M
ACTION:DISPLAY
DESCRIPTION:Reminder
END:VALARM
END:VEVENT
END:VCALENDAR
